BEGIN:VCALENDAR
VERSION:2.0
PRODID:-//Marika Visakorpi-Kemppainen - ECPv6.15.17//NONSGML v1.0//EN
CALSCALE:GREGORIAN
METHOD:PUBLISH
X-ORIGINAL-URL:https://visakorpi.fi
X-WR-CALDESC:Tapahtumat Marika Visakorpi-Kemppainen
REFRESH-INTERVAL;VALUE=DURATION:PT1H
X-Robots-Tag:noindex
X-PUBLISHED-TTL:PT1H
BEGIN:VTIMEZONE
TZID:Europe/Helsinki
BEGIN:DAYLIGHT
TZOFFSETFROM:+0200
TZOFFSETTO:+0300
TZNAME:EEST
DTSTART:20250330T010000
END:DAYLIGHT
BEGIN:STANDARD
TZOFFSETFROM:+0300
TZOFFSETTO:+0200
TZNAME:EET
DTSTART:20251026T010000
END:STANDARD
BEGIN:DAYLIGHT
TZOFFSETFROM:+0200
TZOFFSETTO:+0300
TZNAME:EEST
DTSTART:20260329T010000
END:DAYLIGHT
BEGIN:STANDARD
TZOFFSETFROM:+0300
TZOFFSETTO:+0200
TZNAME:EET
DTSTART:20261025T010000
END:STANDARD
BEGIN:DAYLIGHT
TZOFFSETFROM:+0200
TZOFFSETTO:+0300
TZNAME:EEST
DTSTART:20270328T010000
END:DAYLIGHT
BEGIN:STANDARD
TZOFFSETFROM:+0300
TZOFFSETTO:+0200
TZNAME:EET
DTSTART:20271031T010000
END:STANDARD
END:VTIMEZONE
BEGIN:VEVENT
DTSTART;TZID=Europe/Helsinki:20260217T160000
DTEND;TZID=Europe/Helsinki:20260217T190000
DTSTAMP:20260423T220943
CREATED:20260202T101144Z
LAST-MODIFIED:20260202T101746Z
UID:870-1771344000-1771354800@visakorpi.fi
SUMMARY:Aluevaltuuston kokous
DESCRIPTION:
URL:https://visakorpi.fi/event/aluevaltuuston-kokous/
END:VEVENT
BEGIN:VEVENT
DTSTART;TZID=Europe/Helsinki:20260216T180000
DTEND;TZID=Europe/Helsinki:20260216T200000
DTSTAMP:20260423T220943
CREATED:20260202T101051Z
LAST-MODIFIED:20260202T101828Z
UID:862-1771264800-1771272000@visakorpi.fi
SUMMARY:Kaupunginvaltuuston kokous
DESCRIPTION:
URL:https://visakorpi.fi/event/kaupunginvaltuuston-kokous/
END:VEVENT
BEGIN:VEVENT
DTSTART;TZID=Europe/Helsinki:20260210T130000
DTEND;TZID=Europe/Helsinki:20260210T170000
DTSTAMP:20260423T220943
CREATED:20260205T162528Z
LAST-MODIFIED:20260205T162528Z
UID:905-1770728400-1770742800@visakorpi.fi
SUMMARY:Aluehallituksen kokous
DESCRIPTION:Tääl­tä löy­dät alue­hal­li­tuk­sen kokouk­sen esi­tys­lis­tan.
URL:https://visakorpi.fi/event/aluehallituksen-kokous-2/
END:VEVENT
BEGIN:VEVENT
DTSTART;TZID=Europe/Helsinki:20260127T080000
DTEND;TZID=Europe/Helsinki:20260127T170000
DTSTAMP:20260423T220943
CREATED:20260124T173131Z
LAST-MODIFIED:20260124T173131Z
UID:54-1769500800-1769533200@visakorpi.fi
SUMMARY:Aluehallituksen kokous
DESCRIPTION:
URL:https://visakorpi.fi/event/aluehallituksen-kokous/
END:VEVENT
END:VCALENDAR